BEGIN:VCALENDAR
VERSION:2.0
PRODID:-//ChamberMaster//Event Calendar 2.0//EN
METHOD:PUBLISH
X-PUBLISHED-TTL:P3D
REFRESH-INTERVAL:P3D
CALSCALE:GREGORIAN
BEGIN:VEVENT
DTSTART:20241206T000000Z
DTEND:20241206T040000Z
X-MICROSOFT-CDO-ALLDAYEVENT:FALSE
SUMMARY:Good Life Awards
DESCRIPTION:The Good Life Awards are our way of expressing deep gratitude and recognizing the outstanding individuals who align with our vision for a more positive\, bright world. This year\, we will celebrate six community members who have committed their time\, effort\, and liveliness to uplifting others\, enriching Northern Indiana\, and inspiring meaningful development.\n\nWe believe in the power of good news\, the strength of positive stories\, and the potential for development through inspiration. This powerful event is dedicated to recognizing individuals who have been the driving force behind the spread of positivity and our primary mission as the positive media company proudly representing Northern Indiana.\n\nWe will award our honorees this year at Uptown Social on Thursday\, December 5\, 2024\, with an evening of appetizers and great company to create an enjoyable experience for all.\n\nIndividuals or companies who would like to be a sponsor\, purchase tickets\, full tables\, and bult tickets may visit: https://goodlifeawards2024.eventbrite.com. For more information\, please contact Kami Tupiak : Kami@GreatNews.Life or (219)707-5023.
X-ALT-DESC;FMTTYPE=text/html:<div>The Good Life Awards are our way of expressing deep gratitude and recognizing the outstanding individuals who align with our vision for a more positive\, bright world. This year\, we will celebrate six community members who have committed their time\, effort\, and liveliness to uplifting others\, enriching Northern Indiana\, and inspiring meaningful development.</div>\n\n<div>We believe in the power of good news\, the strength of positive stories\, and the potential for development through inspiration. This powerful event is dedicated to recognizing individuals who have been the driving force behind the spread of positivity and our primary mission as the positive media company proudly representing Northern Indiana.</div>\n\n<div>We will award our honorees this year at Uptown Social on Thursday\, December 5\, 2024\, with an evening of appetizers and great company to create an enjoyable experience for all.</div>\n\n<div>Individuals or companies who would like to be a sponsor\, purchase tickets\, full tables\, and bult tickets may visit:&nbsp\;<a class="x1i10hfl xjbqb8w x1ejq31n xd10rxx x1sy0etr x17r0tee x972fbf xcfux6l x1qhh985 xm0m39n x9f619 x1ypdohk xt0psk2 xe8uvvx xdj266r x11i5rnm xat24cr x1mh8g0r xexx8yu x4uap5 x18d9i69 xkhd6sd x16tdsg8 x1hl2dhg xggy1nq x1a2a7pz x1sur9pj xkrqix3 x1fey0fg x1s688f" href="https://goodlifeawards2024.eventbrite.com/?fbclid=IwZXh0bgNhZW0CMTAAAR3wxxhYgys53q6KW5ahe4iqL66aT7oc7llxzPz0tm4E0xnHJnvlbMR6QGg_aem_x4eW_OXWLd_qASJz2Ngyng" rel="nofollow noreferrer" style="color: var(--blue-link)\; cursor: pointer\; text-decoration-line: none\; list-style: none\; margin: 0px\; text-align: inherit\; border-style: none\; padding: 0px\; box-sizing: border-box\; border-width: 0px\; outline: none\; -webkit-tap-highlight-color: transparent\; font-weight: 600\; touch-action: manipulation\; background-color: transparent\; display: inline\; font-family: inherit\;" tabindex="0" target="_blank">https://goodlifeawards2024.eventbrite.com.</a>&nbsp\;For more information\, please contact Kami Tupiak : Kami@GreatNews.Life or (219)707-5023.</div>\n
LOCATION:Uptown Social 907 Franklin St Michigan City\, IN 46360
UID:e.897.6497
SEQUENCE:3
DTSTAMP:20260420T150751Z
URL:https://members.crossroadschamber.org/events/details/good-life-awards-6497
END:VEVENT

END:VCALENDAR
