BEGIN:VCALENDAR
VERSION:2.0
PRODID:-//ChamberMaster//Event Calendar 2.0//EN
METHOD:PUBLISH
X-PUBLISHED-TTL:P3D
REFRESH-INTERVAL:P3D
CALSCALE:GREGORIAN
BEGIN:VEVENT
DTSTART:20240725T200000Z
DTEND:20240725T230000Z
X-MICROSOFT-CDO-ALLDAYEVENT:FALSE
SUMMARY:Grand Opening MICHIANA.LIFE
DESCRIPTION:Join us to celebrate the launch of our exclusively positive media company in Michiana with a multi chamber Ribbon Cutting & party.
X-ALT-DESC;FMTTYPE=text/html:<span style="font-size:20px\;">Join us to celebrate the launch of our exclusively positive media company in Michiana with a multi chamber Ribbon Cutting &amp\; party.</span>
LOCATION:WXYZ Lounge at Aloft 111 N Main St South Bend
UID:e.897.6431
SEQUENCE:3
DTSTAMP:20260421T022247Z
URL:https://members.crossroadschamber.org/events/details/grand-opening-michiana-life-6431
END:VEVENT

END:VCALENDAR
