BEGIN:VCALENDAR
VERSION:2.0
PRODID:-//ChamberMaster//Event Calendar 2.0//EN
METHOD:PUBLISH
X-PUBLISHED-TTL:P3D
REFRESH-INTERVAL:P3D
CALSCALE:GREGORIAN
BEGIN:VEVENT
DTSTART:20240920T160000Z
DTEND:20240920T190000Z
X-MICROSOFT-CDO-ALLDAYEVENT:FALSE
SUMMARY:Grand Re-Opening for Profinance Federal Credit Union
DESCRIPTION:We are excited to invite everyone to welcome Profinance Federal Credit Union at their new branch. Please join us at the Ribbon Cutting/ Open house.\n\n \n\nOpen house will be held from 11am-2pm\n\nRibbon Cutting will take place at 12:00pm\n\n \n\nWe look forward to seeing everyone and appreciate your support of our Crossroads Chamber members\, and Northwest Indiana's business Community.
X-ALT-DESC;FMTTYPE=text/html:We are excited to invite everyone to welcome Profinance Federal Credit Union at their new branch. Please join us at the Ribbon Cutting/ Open house.<br />\n&nbsp\;<br />\nOpen house will be held from 11am-2pm<br />\nRibbon Cutting will take place at 12:00pm<br />\n&nbsp\;<br />\nWe look forward to seeing everyone and appreciate your support of our Crossroads Chamber members\, and Northwest Indiana&rsquo\;s business Community.
LOCATION:334 W 84th Dr Merrillville\, IN 46410
UID:e.897.6460
SEQUENCE:3
DTSTAMP:20260420T195927Z
URL:https://members.crossroadschamber.org/events/details/grand-re-opening-for-profinance-federal-credit-union-6460
END:VEVENT

END:VCALENDAR
