BEGIN:VCALENDAR
VERSION:2.0
PRODID:-//ChamberMaster//Event Calendar 2.0//EN
METHOD:PUBLISH
X-PUBLISHED-TTL:P3D
REFRESH-INTERVAL:P3D
CALSCALE:GREGORIAN
BEGIN:VEVENT
DTSTART:20231201T210000Z
DTEND:20231201T213000Z
X-MICROSOFT-CDO-ALLDAYEVENT:FALSE
SUMMARY:Great Lakes Sports Hub Ribbon Cutting
DESCRIPTION:We are excited to invite everyone Great Lakes Sports Hub for their Grand Opening. \n\n \n\nRibbon Cutting will take place at 3pm.\n\n \n\nWe look forward to seeing everyone and appreciate your support of our Crossroads Chamber members\, and Northwest Indiana's business Community.
X-ALT-DESC;FMTTYPE=text/html:We are excited to invite everyone Great Lakes Sports Hub for their Grand Opening.&nbsp\;<br />\n&nbsp\;<br />\nRibbon Cutting will take place at 3pm.<br />\n&nbsp\;<br />\nWe look forward to seeing everyone and appreciate your support of our Crossroads Chamber members\, and Northwest Indiana&rsquo\;s business Community.
LOCATION:1301 Merrillville Rd Crown Point\, IN 46307
UID:e.897.5485
SEQUENCE:3
DTSTAMP:20260423T134409Z
URL:https://members.crossroadschamber.org/events/details/great-lakes-sports-hub-ribbon-cutting-5485
END:VEVENT

END:VCALENDAR
