BEGIN:VCALENDAR
VERSION:2.0
PRODID:-//ChamberMaster//Event Calendar 2.0//EN
METHOD:PUBLISH
X-PUBLISHED-TTL:P3D
REFRESH-INTERVAL:P3D
CALSCALE:GREGORIAN
BEGIN:VEVENT
DTSTART;VALUE=DATE:20260104
DTEND;VALUE=DATE:20260105
TRANSP:TRANSPARENT
X-MICROSOFT-CDO-ALLDAYEVENT:TRUE
SUMMARY:HealthVisions Trusted Neighborhood Transportation Service Available Monday - Friday 8:00 am to 4:00 pm
DESCRIPTION:?? Need a Ride to Your Appointment? We've Got You Covered.\n\nTrusted Neighborhood Transportation (TNT) is here to help neighbors in Lake County get where they need to go safely\, reliably\, and with dignity.\n\nWhether it's a doctor's visit\, dialysis\, chemotherapy\, or essential service\, our friendly drivers are ready to assist.\n\n?? What You Can Expect:\n\n\n	Compassionate Service: Our team treats every rider with respect and care.\n	Contribution -based Rides: We suggest a $10 contribution\n	Advance Scheduling: Please call at least 48 hours ahead to reserve your ride. 219-844-2698 #2\n	\n	\n		Wheelchair Accessible: One of our vehicles is equipped to serve riders with mobility needs.\n		Medical Partnerships: We work directly with providers to ensure timely transport for recurring treatments.\n	\n\n	?? Ready to Ride? Call us a 219-844-2698 #2 to book your ride or learn more.\n\n	TNT is powered by HealthVisions Midwest\, serving Lake County with heart and purpose. Because transportation shouldn't be a barrier to health\, opportunity\, or connection.
X-ALT-DESC;FMTTYPE=text/html:<p>?? <strong>Need a Ride to Your Appointment? We&rsquo\;ve Got You Covered.</strong></p>\n\n<p><strong>Trusted Neighborhood Transportation (TNT)</strong> is here to help neighbors in Lake County get where they need to go safely\, reliably\, and with dignity.</p>\n\n<p>Whether it&rsquo\;s a <strong>doctor&rsquo\;s visit\, dialysis\, chemotherapy\, or essential service</strong>\, our friendly drivers are ready to assist.</p>\n\n<p>?? <strong>What You Can Expect:</strong></p>\n\n<ul>\n	<li><strong>Compassionate Service:</strong> Our team treats every rider with respect and care.</li>\n	<li><strong>Contribution -based Rides:</strong> We suggest a $10 contribution</li>\n	<li><strong>Advance Scheduling:</strong> Please call at least 48 hours ahead to reserve your ride. 219-844-2698 #2</li>\n	<li>\n	<ul>\n		<li><strong>Wheelchair Accessible:</strong> One of our vehicles is equipped to serve riders with mobility needs.</li>\n		<li><strong>Medical Partnerships:</strong> We work directly with providers to ensure timely transport for recurring treatments.</li>\n	</ul>\n\n	<p>?? <strong>Ready to Ride?</strong> Call us a 219-844-2698 #2 to book your ride or learn more.</p>\n\n	<p>TNT is powered by <strong>HealthVisions Midwest</strong>\, serving Lake County with heart and purpose. Because transportation shouldn&rsquo\;t be a barrier to health\, opportunity\, or connection.</p>\n	</li>\n</ul>\n
LOCATION:
UID:e.897.7352
SEQUENCE:3
DTSTAMP:20260419T203353Z
URL:https://members.crossroadschamber.org/events/details/healthvisions-trusted-neighborhood-transportation-serive-7352
END:VEVENT

END:VCALENDAR
