BEGIN:VCALENDAR
VERSION:2.0
PRODID:-//ChamberMaster//Event Calendar 2.0//EN
METHOD:PUBLISH
X-PUBLISHED-TTL:P3D
REFRESH-INTERVAL:P3D
CALSCALE:GREGORIAN
BEGIN:VEVENT
DTSTART:20251028T160000Z
DTEND:20251028T190000Z
X-MICROSOFT-CDO-ALLDAYEVENT:FALSE
SUMMARY:HealthVisions Visions of Health Luncheon
DESCRIPTION:Vision of Health\n\nLuncheon\n\nCelebrating Community. Advancing Health Equity.\n\nJoin us for a powerful afternoon of connection\, conversation\, and community health.\n\nTuesday\,\n\nOctober 28\, 2025 11:00 AM - 2:00 PM\n\nDynasty Banquets\n\n4125 Calumet Ave\n\nHammond\, IN 46320\n\nDC\n\nIndividual: $40\n\nTable of 8: $300\n\nReserve your seat or become a sponsor by October!\n\njroman@hvusa.org | (219) 433-4294
X-ALT-DESC;FMTTYPE=text/html:<p>Vision of Health</p>\n\n<p>Luncheon</p>\n\n<p>Celebrating Community. Advancing Health Equity.</p>\n\n<p>Join us for a powerful afternoon of connection\, conversation\, and community health.</p>\n\n<p>Tuesday\,</p>\n\n<p>October 28\, 2025 11:00 AM - 2:00 PM</p>\n\n<p>Dynasty Banquets</p>\n\n<p>4125 Calumet Ave</p>\n\n<p>Hammond\, IN 46320</p>\n\n<p>DC</p>\n\n<p>Individual: $40</p>\n\n<p>Table of 8: $300</p>\n\n<p>Reserve your seat or become a sponsor by October!</p>\n\n<p>jroman@hvusa.org | <a href="tel:(219) 433-4294">(219) 433-4294</a></p>\n
LOCATION:Vision of Health Luncheon Celebrating Community. Advancing Health Equity. Join us for a powerful afternoon of connection\, conversation\, and community Tuesday\, October 28\, 2025 11:00 AM - 2:00 PM Dynasty Banquets 4125 Calumet Ave Hammond\, IN 46320
UID:e.897.7197
SEQUENCE:3
DTSTAMP:20260419T215733Z
URL:https://members.crossroadschamber.org/events/details/healthvisions-visions-of-health-luncheon-7197
END:VEVENT

END:VCALENDAR
