BEGIN:VCALENDAR
VERSION:2.0
PRODID:-//ChamberMaster//Event Calendar 2.0//EN
METHOD:PUBLISH
X-PUBLISHED-TTL:P3D
REFRESH-INTERVAL:P3D
CALSCALE:GREGORIAN
BEGIN:VEVENT
DTSTART:20241212T000000Z
DTEND:20241212T010000Z
X-MICROSOFT-CDO-ALLDAYEVENT:FALSE
SUMMARY:Healthy Donation Food Drive hosted by Prestige 2.0
DESCRIPTION:Join us for a seminar where we 'll explore\n\nhow to choose healthy food items that make excellent donations
X-ALT-DESC;FMTTYPE=text/html:<span style="font-size:20px\;"><span style="font-family:times new roman\;">Join us for a seminar where we &#39\;ll explore<br />\nhow to choose healthy food items that make excellent donations</span></span>
LOCATION:Crown Point Community Library 122 N Main St\, Crown Point\, IN 46307
UID:e.897.6502
SEQUENCE:3
DTSTAMP:20260420T151641Z
URL:https://members.crossroadschamber.org/events/details/healthy-donation-food-drive-hosted-by-prestige-2-0-6502
END:VEVENT

END:VCALENDAR
