BEGIN:VCALENDAR
VERSION:2.0
PRODID:-//ChamberMaster//Event Calendar 2.0//EN
METHOD:PUBLISH
X-PUBLISHED-TTL:P3D
REFRESH-INTERVAL:P3D
CALSCALE:GREGORIAN
BEGIN:VEVENT
DTSTART:20231205T190000Z
DTEND:20231205T220000Z
X-MICROSOFT-CDO-ALLDAYEVENT:FALSE
SUMMARY:Heart Health and Life Educational Services\, LLC First Aid and CPR Training
DESCRIPTION:Same Day Certification Card!\n\n\n\nSpace is limited to 12 people. Register today!\n\n\n\nTraining includes:\n\n	Learn about Emergency Situations\n	Relief of Choking\n	Use of the AED\n	Use of Bag Mask Device\n	Real-life Demonstration
X-ALT-DESC;FMTTYPE=text/html:<span style="font-size:14px\;"><span style="font-family:arial\;">Same Day Certification Card!</span></span><br />\n<br />\n<strong><span style="font-size:14px\;"><span style="font-family:arial\;"><em><span style="color:black\;">Space is limited to 12 people. Register today!</span></em></span></span></strong><br />\n<br />\n<span style="font-size:14px\;">Training includes:</span>\n<ul>\n	<li style="line-height:normal\;"><span style="color:black\;"><span style="font-family:times new roman\,serif\;"><span style="font-size:12.0pt\;">Learn about Emergency Situations</span></span></span></li>\n	<li style="line-height:normal\;"><span style="color:black\;"><span style="font-family:times new roman\,serif\;"><span style="font-size:12.0pt\;">Relief of Choking</span></span></span></li>\n	<li style="line-height:normal\;"><span style="color:black\;"><span style="font-family:times new roman\,serif\;"><span style="font-size:12.0pt\;">Use of the AED</span></span></span></li>\n	<li style="line-height:normal\;"><span style="color:black\;"><span style="font-family:times new roman\,serif\;"><span style="font-size:12.0pt\;">Use of Bag Mask Device</span></span></span></li>\n	<li style="line-height:normal\;"><span style="color:black\;"><span style="font-family:times new roman\,serif\;"><span style="font-size:12.0pt\;">Real-life Demonstration</span></span></span></li>\n</ul>\n
LOCATION:Crossroads Chamber Office Lazlo & Popp\, PC Community Room 440 W. 84th Dr. Merrillville\, IN 46410
UID:e.897.5207
SEQUENCE:3
DTSTAMP:20260423T134213Z
URL:https://members.crossroadschamber.org/events/details/heart-health-and-life-educational-services-llc-first-aid-and-cpr-training-5207
END:VEVENT

END:VCALENDAR
