BEGIN:VCALENDAR
VERSION:2.0
PRODID:-//ChamberMaster//Event Calendar 2.0//EN
METHOD:PUBLISH
X-PUBLISHED-TTL:P3D
REFRESH-INTERVAL:P3D
CALSCALE:GREGORIAN
BEGIN:VEVENT
DTSTART:20260228T170000Z
DTEND:20260228T200000Z
X-MICROSOFT-CDO-ALLDAYEVENT:FALSE
SUMMARY:Heart Health Fair
DESCRIPTION:The Heart Health Fair hosted by HealthVisions Midwest is a vibrant\, community-centered event designed to promote wellness and connection. Here's a snapshot of what it offers:\n\n?? Event Overview\n\n\n	Date & Time: February 28\, 2026\, from 11:00 AM to 2:00 PM\n	Location: Area Career Center\, 5727 Sohl Ave\, Hammond\, IN 46320\n	Audience: Open to families\, individuals\, and community members of all ages\n\n\n?? Services & Activities\n\n\n	Health Screenings: Free checks to support heart health and overall wellness\n	Vaccines & Flu Shots: On-site immunizations to protect against seasonal illness\n	Vendor Booths: Local organizations and businesses sharing resources and products\n	Entertainment: Music\, food\, and family-friendly fun to create a\n\n\nThe Heart Health Fair hosted by HealthVisions Midwest is a vibrant\, community-centered event designed to promote wellness and connection. Here's a snapshot of what it offers:\n\n?? Event Overview\n\n\n	Date & Time: February 28\, 2026\, from 11:00 AM to 2:00 PM\n	Location: Area Career Center\, 5727 Sohl Ave\, Hammond\, IN 46320\n	Audience: Open to families\, individuals\, and community members of all ages\n\n\n?? Services & Activities\n\n\n	Health Screenings: Free checks to support heart health and overall wellness\n	Vaccines & Flu Shots: On-site immunizations to protect against seasonal illness\n	Vendor Booths: Local organizations and businesses sharing resources and products\n	Entertainment: Music\, food\, and family-friendly fun to create a
X-ALT-DESC;FMTTYPE=text/html:<p>The <strong>Heart Health Fair</strong> hosted by HealthVisions Midwest is a vibrant\, community-centered event designed to promote wellness and connection. Here&#39\;s a snapshot of what it offers:</p>\n\n<p>?? Event Overview</p>\n\n<ul>\n	<li><strong>Date &amp\; Time:</strong> February 28\, 2026\, from 11:00 AM to 2:00 PM</li>\n	<li><strong>Location:</strong> Area Career Center\, 5727 Sohl Ave\, Hammond\, IN 46320</li>\n	<li><strong>Audience:</strong> Open to families\, individuals\, and community members of all ages</li>\n</ul>\n\n<p>?? Services &amp\; Activities</p>\n\n<ul>\n	<li><strong>Health Screenings:</strong> Free checks to support heart health and overall wellness</li>\n	<li><strong>Vaccines &amp\; Flu Shots:</strong> On-site immunizations to protect against seasonal illness</li>\n	<li><strong>Vendor Booths:</strong> Local organizations and businesses sharing resources and products</li>\n	<li><strong>Entertainment:</strong> Music\, food\, and family-friendly fun to create a</li>\n</ul>\n\n<p>The <strong>Heart Health Fair</strong> hosted by HealthVisions Midwest is a vibrant\, community-centered event designed to promote wellness and connection. Here&#39\;s a snapshot of what it offers:</p>\n\n<p>?? Event Overview</p>\n\n<ul>\n	<li><strong>Date &amp\; Time:</strong> February 28\, 2026\, from 11:00 AM to 2:00 PM</li>\n	<li><strong>Location:</strong> Area Career Center\, 5727 Sohl Ave\, Hammond\, IN 46320</li>\n	<li><strong>Audience:</strong> Open to families\, individuals\, and community members of all ages</li>\n</ul>\n\n<p>?? Services &amp\; Activities</p>\n\n<ul>\n	<li><strong>Health Screenings:</strong> Free checks to support heart health and overall wellness</li>\n	<li><strong>Vaccines &amp\; Flu Shots:</strong> On-site immunizations to protect against seasonal illness</li>\n	<li><strong>Vendor Booths:</strong> Local organizations and businesses sharing resources and products</li>\n	<li><strong>Entertainment:</strong> Music\, food\, and family-friendly fun to create a</li>\n</ul>\n
LOCATION:
UID:e.897.7351
SEQUENCE:3
DTSTAMP:20260419T164835Z
URL:https://members.crossroadschamber.org/events/details/heart-health-fair-7351
END:VEVENT

END:VCALENDAR
