BEGIN:VCALENDAR
VERSION:2.0
PRODID:-//ChamberMaster//Event Calendar 2.0//EN
METHOD:PUBLISH
X-PUBLISHED-TTL:P3D
REFRESH-INTERVAL:P3D
CALSCALE:GREGORIAN
BEGIN:VEVENT
DTSTART:20250222T160000Z
DTEND:20250222T200000Z
X-MICROSOFT-CDO-ALLDAYEVENT:FALSE
SUMMARY:Heart Month and Black History Health Fair
DESCRIPTION:02-22-2025 Join HealthVisions of Lake County to share your resources\, information and promote health throughout the community.  Food\, Entertainment\, and much more. \n\nSponsorship Opportunities:  All funds raised will support free health programs\, services\, community pantry\, and public health initiatives throughout Lake County. \n\nLocation: Area Career Center\n\n5727 Sohl Ave\, Hammond\, IN 46320\n\nContact: Deja Bailey for sponsorship or table:  Dbailey@hvusa.org
X-ALT-DESC;FMTTYPE=text/html:02-22-2025 Join HealthVisions of Lake County to share your resources\, information and promote health throughout the community.&nbsp\; Food\, Entertainment\, and much more.&nbsp\;<br />\nSponsorship Opportunities:&nbsp\; All funds raised will support free health programs\, services\, community pantry\, and public health initiatives throughout Lake County.&nbsp\;<br />\nLocation: Area Career Center<br />\n5727 Sohl Ave\, Hammond\, IN 46320<br />\nContact: Deja Bailey for sponsorship or table:&nbsp\; Dbailey@hvusa.org&nbsp\;
LOCATION:
UID:e.897.6644
SEQUENCE:3
DTSTAMP:20260420T120726Z
URL:https://members.crossroadschamber.org/events/details/heart-month-and-black-history-health-fair-6644
END:VEVENT

END:VCALENDAR
