BEGIN:VCALENDAR
VERSION:2.0
PRODID:-//ChamberMaster//Event Calendar 2.0//EN
METHOD:PUBLISH
X-PUBLISHED-TTL:P3D
REFRESH-INTERVAL:P3D
CALSCALE:GREGORIAN
BEGIN:VEVENT
DTSTART:20240613T200000Z
DTEND:20240614T000000Z
X-MICROSOFT-CDO-ALLDAYEVENT:FALSE
SUMMARY:ICC Floors Plus Ribbon Cutting
DESCRIPTION:We are excited to invite everyone to welcome ICC Floors Plus to Merrillville. Please join us at the Ribbon Cutting/ Open house.\n\n\n\nOpen house will be held from 3pm-7pm  \n\nRibbon Cutting will take place at 3:45p\n\n\n\nWe look forward to seeing everyone and appreciate your support of our Crossroads Chamber members\, and Northwest Indiana's business Community.
X-ALT-DESC;FMTTYPE=text/html:We are excited to invite everyone to welcome ICC Floors Plus to Merrillville. Please join us at the Ribbon Cutting/ Open house.<br />\n<br />\nOpen house will be held from 3pm-7pm &nbsp\;<br />\n<strong>Ribbon Cutting will take place at 3:45p</strong><br />\n<br />\nWe look forward to seeing everyone and appreciate your support of our Crossroads Chamber members\, and Northwest Indiana&rsquo\;s business Community.
LOCATION:9450 Mississippi St Crown Point\, 46307
UID:e.897.6276
SEQUENCE:3
DTSTAMP:20260421T040715Z
URL:https://members.crossroadschamber.org/events/details/icc-floors-plus-ribbon-cutting-6276
END:VEVENT

END:VCALENDAR
