BEGIN:VCALENDAR
VERSION:2.0
PRODID:-//ChamberMaster//Event Calendar 2.0//EN
METHOD:PUBLISH
X-PUBLISHED-TTL:P3D
REFRESH-INTERVAL:P3D
CALSCALE:GREGORIAN
BEGIN:VEVENT
DTSTART:20240321T133000Z
DTEND:20240321T150000Z
X-MICROSOFT-CDO-ALLDAYEVENT:FALSE
SUMMARY:IL Continuity of Care NWI Chapter Meeting - R&M Partners Presents “Navigating the Senior Living Landscaping and Creating Culture of Engagement.”
DESCRIPTION:Step into a world of insights with Patric Richardson\, RCA\, CAPS\, as R&M Partners CEO/Founder takes center stage at the IL COC NW/Metro Chapter Meeting. Join us for an enlightening session on Navigating Senior Living Landscaping and Creating a Culture of Engagement. In this exclusive presentation\, Patric Richardson will guide healthcare professionals and senior living communities through uncharted territories\, addressing the challenges posed by a shrinking workforce and escalating needs in an aging population. Gain valuable perspectives on charting a course for the future of senior care as we explore innovative solutions and strategies together.
X-ALT-DESC;FMTTYPE=text/html:<p>Step into a world of insights with Patric Richardson\, RCA\, CAPS\, as R&amp\;M Partners CEO/Founder takes center stage at the IL COC NW/Metro Chapter Meeting. Join us for an enlightening session on <strong>Navigating Senior Living Landscaping and Creating a Culture of Engagement.</strong> In this exclusive presentation\, Patric Richardson will guide healthcare professionals and senior living communities through uncharted territories\, addressing the challenges posed by a shrinking workforce and escalating needs in an aging population. Gain valuable perspectives on charting a course for the future of senior care as we explore innovative solutions and strategies together.</p>\n
LOCATION:Harbor Health & Rehab Center 5025 McCook Avenue East Chicago\, IN\, 46312
UID:e.897.6097
SEQUENCE:3
DTSTAMP:20260423T090418Z
URL:https://members.crossroadschamber.org/events/details/il-continuity-of-care-nwi-chapter-meeting-r-m-partners-presents-navigating-the-senior-living-landscaping-and-creating-culture-of-engagement-6097
END:VEVENT

END:VCALENDAR
