BEGIN:VCALENDAR
VERSION:2.0
PRODID:-//ChamberMaster//Event Calendar 2.0//EN
METHOD:PUBLISH
X-PUBLISHED-TTL:P3D
REFRESH-INTERVAL:P3D
CALSCALE:GREGORIAN
BEGIN:VEVENT
DTSTART:20230501T170000Z
DTEND:20230501T190000Z
X-MICROSOFT-CDO-ALLDAYEVENT:FALSE
SUMMARY:Indiana Center for Recovery Access to Community Care
DESCRIPTION:Indiana Center for Recovery Access to Community Care\n\nGrand Opening/ Ribbon Cutting
X-ALT-DESC;FMTTYPE=text/html:Indiana Center for Recovery Access to Community Care<br />\nGrand Opening/ Ribbon Cutting&nbsp\;<br />\n&nbsp\;
LOCATION:1578 E 85th Ave Merrillville\, IN 46410
UID:e.897.5013
SEQUENCE:3
DTSTAMP:20260424T020758Z
URL:https://members.crossroadschamber.org/events/details/indiana-center-for-recovery-access-to-community-care-5013
END:VEVENT

END:VCALENDAR
