BEGIN:VCALENDAR
VERSION:2.0
PRODID:-//ChamberMaster//Event Calendar 2.0//EN
METHOD:PUBLISH
X-PUBLISHED-TTL:P3D
REFRESH-INTERVAL:P3D
CALSCALE:GREGORIAN
BEGIN:VEVENT
DTSTART:20251009T210000Z
DTEND:20251009T230000Z
X-MICROSOFT-CDO-ALLDAYEVENT:FALSE
SUMMARY:Innsbrook Country Club's 1919 Cabin Ribbon Cutting
DESCRIPTION:Join us as we celebrate Innsbrook Country Club's newest addition   The 1919 Cabin!\n\n\n\nThis beautiful rental home is perfect for your next gathering   whether it's a "guy's trip\," a "girls' night out\," or a special family celebration. Be among the first to see this unique new venue at our ribbon cutting.
X-ALT-DESC;FMTTYPE=text/html:<p><span style="font-size:20px\;"><span style="font-family:arial\;">Join us as we celebrate Innsbrook Country Club&rsquo\;s newest addition &mdash\; <strong>The 1919 Cabin!</strong><br />\n<br />\nThis beautiful rental home is perfect for your next gathering &mdash\; whether it&rsquo\;s a &ldquo\;guy&rsquo\;s trip\,&rdquo\; a &ldquo\;girls&rsquo\; night out\,&rdquo\; or a special family celebration. Be among the first to see this unique new venue at our ribbon cutting.</span></span><o:p></o:p></p>\n
LOCATION:1919 W. 64th Pl Merrillville\, IN 46410
UID:e.897.7207
SEQUENCE:3
DTSTAMP:20260419T233510Z
URL:https://members.crossroadschamber.org/events/details/innsbrook-country-club-s-1919-cabin-ribbon-cutting-7207
END:VEVENT

END:VCALENDAR
