BEGIN:VCALENDAR
VERSION:2.0
PRODID:-//ChamberMaster//Event Calendar 2.0//EN
METHOD:PUBLISH
X-PUBLISHED-TTL:P3D
REFRESH-INTERVAL:P3D
CALSCALE:GREGORIAN
BEGIN:VEVENT
DTSTART:20221102T120000Z
DTEND:20221102T200000Z
X-MICROSOFT-CDO-ALLDAYEVENT:FALSE
SUMMARY:JA Chambertown
DESCRIPTION:This is a unique experience where students will be challenged with an economic adventure through town. Chamber businesses and community volunteers will be on hand to guide students through this exciting JA Capstone experience.
X-ALT-DESC;FMTTYPE=text/html:This is a unique experience where students will be challenged with an economic adventure through town. Chamber businesses and community volunteers will be on hand to guide students through this exciting JA Capstone experience.&nbsp\;
LOCATION:Wheeler Middle School 401 W Joliet St Crown Point\, IN 46307
UID:e.897.4535
SEQUENCE:3
DTSTAMP:20260424T123559Z
URL:https://members.crossroadschamber.org/events/details/ja-chambertown-4535
END:VEVENT

END:VCALENDAR
