BEGIN:VCALENDAR
VERSION:2.0
PRODID:-//ChamberMaster//Event Calendar 2.0//EN
METHOD:PUBLISH
X-PUBLISHED-TTL:P3D
REFRESH-INTERVAL:P3D
CALSCALE:GREGORIAN
BEGIN:VEVENT
DTSTART:20230322T123000Z
DTEND:20230322T193000Z
X-MICROSOFT-CDO-ALLDAYEVENT:FALSE
SUMMARY:JA Chambertown
DESCRIPTION:This is a unique experience where students will be challenged with an economic adventure through town. Chamber businesses and community volunteers will be on hand to guide students through this exciting JA Capstone experience.
X-ALT-DESC;FMTTYPE=text/html:This is a unique experience where students will be challenged with an economic adventure through town. Chamber businesses and community volunteers will be on hand to guide students through this exciting JA Capstone experience.&nbsp\;
LOCATION:Pierce Middle School 199 E70th Ave Merrillville\, IN 46410
UID:e.897.4878
SEQUENCE:3
DTSTAMP:20260424T054306Z
URL:https://members.crossroadschamber.org/events/details/ja-chambertown-4878
END:VEVENT

END:VCALENDAR
