BEGIN:VCALENDAR
VERSION:2.0
PRODID:-//ChamberMaster//Event Calendar 2.0//EN
METHOD:PUBLISH
X-PUBLISHED-TTL:P3D
REFRESH-INTERVAL:P3D
CALSCALE:GREGORIAN
BEGIN:VEVENT
DTSTART:20260317T131500Z
DTEND:20260317T181500Z
X-MICROSOFT-CDO-ALLDAYEVENT:FALSE
SUMMARY:JA Chambertown
DESCRIPTION:This is a unique experience where students will be challenged with an economic adventure through town. Chamber businesses and community volunteers will be on hand to guide students through this exciting JA  experience.
X-ALT-DESC;FMTTYPE=text/html:This is a unique experience where students will be challenged with an economic adventure through town. Chamber businesses and community volunteers will be on hand to guide students through this exciting JA&nbsp\; experience.&nbsp\;
LOCATION:Dean & Barbara White Community Center 6600 Broadway Merrillville\, IN 46410
UID:e.897.7355
SEQUENCE:3
DTSTAMP:20260419T144252Z
URL:https://members.crossroadschamber.org/events/details/ja-chambertown-7355
END:VEVENT

END:VCALENDAR
