BEGIN:VCALENDAR
VERSION:2.0
PRODID:-//ChamberMaster//Event Calendar 2.0//EN
METHOD:PUBLISH
X-PUBLISHED-TTL:P3D
REFRESH-INTERVAL:P3D
CALSCALE:GREGORIAN
BEGIN:VEVENT
DTSTART:20250107T220000Z
DTEND:20250108T000000Z
X-MICROSOFT-CDO-ALLDAYEVENT:FALSE
SUMMARY:Janet M Sienicki LLC – Valpo Ribbon Cutting
DESCRIPTION:Calling all businesses and individuals! \n\n Whether you need assistance with tax returns\, IRS matters\, or just want to meet some amazing people\, come out on January 7\, 2025\, to meet Janet Sienicki and her dedicated team as she opens her new satellite office. With over 42 years of experience\, they are here to help you succeed.\n\n \n\nDon't miss out on door prizes\, refreshments\, and a chance to connect with the community. For more details\, check the link below. We hope to see you there!\n\n https://janetsienicki.com/ribbon-cutting
X-ALT-DESC;FMTTYPE=text/html:<p class="xmsonormal"><span class="xsize"><span style="font-size:10.0pt\;font-family:\n&quot\;Verdana&quot\;\,sans-serif">Calling all businesses and individuals! </span></span><o:p></o:p></p>\n\n<p class="xmsonormal"><span class="xsize"><span style="font-size:10.0pt\;font-family:\n&quot\;Verdana&quot\;\,sans-serif">&nbsp\;</span></span><span style="font-family: Verdana\, sans-serif\; font-size: 10pt\;">Whether you need assistance with tax returns\, IRS matters\, or just want to meet some amazing people\, come out on January 7\, 2025\, to meet Janet Sienicki and her dedicated team as she opens her new satellite office. With over 42 years of experience\, they are here to help you succeed.</span><br />\n&nbsp\;</p>\n\n<p class="xmsonormal"><span class="xsize"><span style="font-size:10.0pt\;font-family:\n&quot\;Verdana&quot\;\,sans-serif">Don&#39\;t miss out on door prizes\, refreshments\, and a chance to connect with the community. For more details\, check the link below. We hope to see you there!</span></span><o:p></o:p></p>\n\n<p class="xmsonormal"><span class="xsize"><span style="font-size:10.0pt\;font-family:\n&quot\;Verdana&quot\;\,sans-serif">&nbsp\;</span></span><a href="https://janetsienicki.com/ribbon-cutting/" style="font-family: Verdana\, sans-serif\; font-size: 10pt\;" target="_blank">https://janetsienicki.com/ribbon-cutting</a></p>\n
LOCATION:451 W. Lincolnway\, Suite A\, Valparaiso\, Indiana
UID:e.897.6608
SEQUENCE:3
DTSTAMP:20260420T134701Z
URL:https://members.crossroadschamber.org/events/details/janet-m-sienicki-llc-valpo-ribbon-cutting-6608
END:VEVENT

END:VCALENDAR
