BEGIN:VCALENDAR
VERSION:2.0
PRODID:-//ChamberMaster//Event Calendar 2.0//EN
METHOD:PUBLISH
X-PUBLISHED-TTL:P3D
REFRESH-INTERVAL:P3D
CALSCALE:GREGORIAN
BEGIN:VEVENT
DTSTART:20230117T171500Z
DTEND:20230117T190000Z
X-MICROSOFT-CDO-ALLDAYEVENT:FALSE
SUMMARY:January 2023 Monthly Membership Lunch
DESCRIPTION:Frank J. Mrvan\n\nU.S. Representative\n\n1st District Indiana
X-ALT-DESC;FMTTYPE=text/html:Frank J. Mrvan<br />\nU.S. Representative<br />\n1st District Indiana
LOCATION:Avalon Manor 350 E. Lincoln Highway Merrillville\, IN 46410
UID:e.897.4854
SEQUENCE:3
DTSTAMP:20260424T105249Z
URL:https://members.crossroadschamber.org/events/details/january-2023-monthly-membership-lunch-4854
END:VEVENT

END:VCALENDAR
