BEGIN:VCALENDAR
VERSION:2.0
PRODID:-//ChamberMaster//Event Calendar 2.0//EN
METHOD:PUBLISH
X-PUBLISHED-TTL:P3D
REFRESH-INTERVAL:P3D
CALSCALE:GREGORIAN
BEGIN:VEVENT
DTSTART:20210119T180000Z
DTEND:20210119T190000Z
X-MICROSOFT-CDO-ALLDAYEVENT:FALSE
SUMMARY:January Monthly Program Featuring Congressman Frank Mrvan via Zoom
DESCRIPTION:Congressman Frank Mrvan will speak to us via zoom.  Join us for a great conversation with our new Congressman.
X-ALT-DESC;FMTTYPE=text/html:Congressman Frank Mrvan will speak to us via zoom.&nbsp\; Join us for a great conversation with our new Congressman.
LOCATION:Zoom registration information will follow after registering for the event
UID:e.897.4379
SEQUENCE:3
DTSTAMP:20260426T040329Z
URL:https://members.crossroadschamber.org/events/details/january-monthly-program-featuring-congressman-frank-mrvan-via-zoom-4379
END:VEVENT

END:VCALENDAR
