BEGIN:VCALENDAR
VERSION:2.0
PRODID:-//ChamberMaster//Event Calendar 2.0//EN
METHOD:PUBLISH
X-PUBLISHED-TTL:P3D
REFRESH-INTERVAL:P3D
CALSCALE:GREGORIAN
BEGIN:VEVENT
DTSTART:20250715T210000Z
DTEND:20250715T230000Z
X-MICROSOFT-CDO-ALLDAYEVENT:FALSE
SUMMARY:July Networking Social Event
DESCRIPTION:Summer Social After Hours Event \n\nAppetizers and open bar will be included with registration
X-ALT-DESC;FMTTYPE=text/html:<span style="font-size:20px\;"><span style="font-family:arial\;">Summer Social After Hours Event&nbsp\;<br />\nAppetizers&nbsp\;and open bar will be included with registration&nbsp\;</span></span>
LOCATION:Journeyman at American Factory 258 S Campbell St\, Valparaiso\, IN 46385
UID:e.897.6575
SEQUENCE:3
DTSTAMP:20260420T044420Z
URL:https://members.crossroadschamber.org/events/details/july-networking-social-event-6575
END:VEVENT

END:VCALENDAR
