BEGIN:VCALENDAR
VERSION:2.0
PRODID:-//ChamberMaster//Event Calendar 2.0//EN
METHOD:PUBLISH
X-PUBLISHED-TTL:P3D
REFRESH-INTERVAL:P3D
CALSCALE:GREGORIAN
BEGIN:VEVENT
DTSTART:20230620T161500Z
DTEND:20230620T180000Z
X-MICROSOFT-CDO-ALLDAYEVENT:FALSE
SUMMARY:June 2023 Monthly Membership Lunch
DESCRIPTION:
X-ALT-DESC;FMTTYPE=text/html:
LOCATION:The Grand 1 Courthouse Square Crown Point\, IN 46307
UID:e.897.4875
SEQUENCE:3
DTSTAMP:20260424T002131Z
URL:https://members.crossroadschamber.org/events/details/june-2023-monthly-membership-lunch-4875
END:VEVENT

END:VCALENDAR
