BEGIN:VCALENDAR
VERSION:2.0
PRODID:-//ChamberMaster//Event Calendar 2.0//EN
METHOD:PUBLISH
X-PUBLISHED-TTL:P3D
REFRESH-INTERVAL:P3D
CALSCALE:GREGORIAN
BEGIN:VEVENT
DTSTART:20260915T163000Z
DTEND:20260915T180000Z
X-MICROSOFT-CDO-ALLDAYEVENT:FALSE
SUMMARY:September Membership Program
DESCRIPTION:Join us for our Membership Networking Program! It is a fun\, easy way to meet new people\, make great connections\, and get to know fellow Crossroads Chamber members. Whether you are a current member or checking us out for the first time\, we would love to have you join us and be part of the networking energy!\n\n\n\nGuest Speaker: Chris White with United Way Northwest Indiana \n\n\n\nDon't forget to register for a Promotional "Get Promoted" Table $30 \n\nReceive a table with two chairs\, bring your promotional items for your business\, network with members and receive time at the mic during the program.\n\n\n\nTable Sponsorship Available for $400\n\nTable Sponsor includes eight lunch reservations\, a reserved table in front of the room with company name on table and recognition at the mic.
X-ALT-DESC;FMTTYPE=text/html:<span style="font-size:22px\;"><span style="font-family:tahoma\;">Join us for our Membership Networking Program! It is a fun\, easy way to meet new people\, make great connections\, and get to know fellow Crossroads Chamber members. Whether you are a current member or checking us out for the first time\, we would love to have you join us and be part of the networking energy!<br />\n<br />\nGuest Speaker: Chris White with United Way Northwest Indiana&nbsp\;<br />\n<br />\nDon&#39\;t forget to register for a&nbsp\;<strong>Promotional &ldquo\;Get Promoted&rdquo\; Table $30&nbsp\;</strong><br />\nReceive a table with two chairs\, bring your promotional items for your business\, network with members and receive time at the mic during the program.<br />\n<br />\n<strong>Table Sponsorship Available for $400</strong><br />\nTable Sponsor includes eight lunch reservations\, a reserved table in front of the room with company name on table and recognition at the mic.</span></span>
LOCATION:Aberdeen Manor Ballroom 216 Ballantrae St. Valparaiso\, IN 46385
UID:e.897.7305
SEQUENCE:3
DTSTAMP:20260420T011354Z
URL:https://members.crossroadschamber.org/events/details/june-membership-program-7305
END:VEVENT

END:VCALENDAR
