BEGIN:VCALENDAR
VERSION:2.0
PRODID:-//ChamberMaster//Event Calendar 2.0//EN
METHOD:PUBLISH
X-PUBLISHED-TTL:P3D
REFRESH-INTERVAL:P3D
CALSCALE:GREGORIAN
BEGIN:VEVENT
DTSTART:20230628T000000Z
DTEND:20230628T020000Z
X-MICROSOFT-CDO-ALLDAYEVENT:FALSE
SUMMARY:Lake County Corndogs Family Night
DESCRIPTION:The Lake County Corndogs \n\nFamily Night\n\n\n\nBring your friends\, colleagues\, and family out to the old ballgame with your friends from Crossroads Chamber!  \n\n\n\nRegister to enter into a drawing to throw out the ceremonial first pitch!
X-ALT-DESC;FMTTYPE=text/html:The Lake County Corndogs&nbsp\;<br />\nFamily Night<br />\n<br />\nBring your friends\, colleagues\, and family out to the old ballgame with your friends from Crossroads Chamber!&nbsp\;&nbsp\;<br />\n<br />\n<span style="font-family:comic sans ms\;"><span style="color:#0000CD\;"><strong>Register to enter into a drawing to throw out the ceremonial first pitch!&nbsp\;&nbsp\;</strong></span></span>
LOCATION:Legacy Fields 1371 N Indiana Ave Crown Point\, IN 46307
UID:e.897.5019
SEQUENCE:3
DTSTAMP:20260424T002152Z
URL:https://members.crossroadschamber.org/events/details/lake-county-corndogs-family-night-5019
END:VEVENT

END:VCALENDAR
