BEGIN:VCALENDAR
VERSION:2.0
PRODID:-//ChamberMaster//Event Calendar 2.0//EN
METHOD:PUBLISH
X-PUBLISHED-TTL:P3D
REFRESH-INTERVAL:P3D
CALSCALE:GREGORIAN
BEGIN:VEVENT
DTSTART:20240731T000000Z
DTEND:20240731T030000Z
X-MICROSOFT-CDO-ALLDAYEVENT:FALSE
SUMMARY:Lake County CornDogs Game
DESCRIPTION:The Lake County Corndogs Family Night\n\n\n\nBring your friends\, colleagues\, and family out to the old ballgame with your friends from Crossroads Chamber!  \n\n\n\nYou will be entered into a drawing to throw out the ceremonial first pitch with the purchase of a ticket!
X-ALT-DESC;FMTTYPE=text/html:<span style="font-size:18px\;"><span style="font-family:arial\;">The Lake County Corndogs&nbsp\;Family Night<br />\n<br />\nBring your friends\, colleagues\, and family out to the old ballgame with your friends from Crossroads Chamber!&nbsp\;&nbsp\;<br />\n<br />\n<span style="font-size:20px\;"><span style="color: rgb(0\, 0\, 205)\;"><strong>You will be entered into a drawing to throw out the ceremonial first pitch with the purchase of a ticket!&nbsp\;</strong></span></span></span></span>
LOCATION:1371 N. Indiana Ave\, Crown Point\, IN 46307
UID:e.897.6298
SEQUENCE:3
DTSTAMP:20260421T022006Z
URL:https://members.crossroadschamber.org/events/details/lake-county-corndogs-game-6298
END:VEVENT

END:VCALENDAR
