BEGIN:VCALENDAR
VERSION:2.0
PRODID:-//ChamberMaster//Event Calendar 2.0//EN
METHOD:PUBLISH
X-PUBLISHED-TTL:P3D
REFRESH-INTERVAL:P3D
CALSCALE:GREGORIAN
BEGIN:VEVENT
DTSTART:20230620T220000Z
DTEND:20230621T000000Z
X-MICROSOFT-CDO-ALLDAYEVENT:FALSE
SUMMARY:Lakeshore Bone & Joint Institute
DESCRIPTION:Lakeshore Bone & Joint Institute \n\nOpen House
X-ALT-DESC;FMTTYPE=text/html:Lakeshore Bone &amp\; Joint Institute&nbsp\;<br />\nOpen House&nbsp\;
LOCATION:500 E 109th Ave Crown Point\, IN 46307
UID:e.897.5018
SEQUENCE:3
DTSTAMP:20260424T002059Z
URL:https://members.crossroadschamber.org/events/details/lakeshore-bone-joint-institute-5018
END:VEVENT

END:VCALENDAR
