BEGIN:VCALENDAR
VERSION:2.0
PRODID:-//ChamberMaster//Event Calendar 2.0//EN
METHOD:PUBLISH
X-PUBLISHED-TTL:P3D
REFRESH-INTERVAL:P3D
CALSCALE:GREGORIAN
BEGIN:VEVENT
DTSTART:20240117T210000Z
DTEND:20240118T000000Z
X-MICROSOFT-CDO-ALLDAYEVENT:FALSE
SUMMARY:Lakeshore Public Media After Hours
DESCRIPTION:Please join us to celebrate LPM's 15 years of public radio in Northwest Indiana at\n\nthis business after-hours event at Lakeshore Public Media Studios.\n\n\n\nEnjoy food and beverages while chatting with Lakeshore team members and\n\ngetting behind-the-scenes tours of the station.\n\nThis is also a great opportunity to network with some of\n\nNorthwest Indiana's community members\, leaders\, and entrepreneurs.
X-ALT-DESC;FMTTYPE=text/html:<br />\n<br />\nPlease join us to celebrate LPM&rsquo\;s 15 years of public radio in Northwest Indiana at<br />\nthis business after-hours event at Lakeshore Public Media Studios.<br />\n<br />\nEnjoy food and beverages while chatting with Lakeshore team members and<br />\ngetting behind-the-scenes tours of the station.<br />\nThis is also a great opportunity to network with some of<br />\nNorthwest Indiana&#39\;s community members\, leaders\, and entrepreneurs.&nbsp\;
LOCATION:Lakeshore Public Media Studios 8625 Indiana Place Merrillville\, IN 46410
UID:e.897.5661
SEQUENCE:3
DTSTAMP:20260423T133922Z
URL:https://members.crossroadschamber.org/events/details/lakeshore-public-media-after-hours-5661
END:VEVENT

END:VCALENDAR
