BEGIN:VCALENDAR
VERSION:2.0
PRODID:-//ChamberMaster//Event Calendar 2.0//EN
METHOD:PUBLISH
X-PUBLISHED-TTL:P3D
REFRESH-INTERVAL:P3D
CALSCALE:GREGORIAN
BEGIN:VEVENT
DTSTART:20240912T210000Z
DTEND:20240912T230000Z
X-MICROSOFT-CDO-ALLDAYEVENT:FALSE
SUMMARY:Lerner and Rowe Ribbon Cutting
DESCRIPTION:We are excited to invite everyone to Lerner and Rowe's Ribbon Cutting. Please join us at the Ribbon Cutting/ Open house.\n\n \n\nOpen house will be held from 4p-6p\n\nRibbon Cutting will take place at 4:30pm.\n\n \n\nWe look forward to seeing everyone and appreciate your support of our Crossroads Chamber members\, and Northwest Indiana's business Community.
X-ALT-DESC;FMTTYPE=text/html:<span style="font-size:18px\;">We are excited to invite everyone to Lerner and Rowe&#39\;s Ribbon Cutting. Please join us at the Ribbon Cutting/ Open house.<br />\n&nbsp\;<br />\nOpen house will be held from 4p-6p<br />\nRibbon Cutting will take place at 4:30pm.<br />\n&nbsp\;<br />\nWe look forward to seeing everyone and appreciate your support of our Crossroads Chamber members\, and Northwest Indiana&rsquo\;s business Community.</span>
LOCATION:2612 Calumet Ave Valparaiso\, IN 46383
UID:e.897.6454
SEQUENCE:3
DTSTAMP:20260420T195201Z
URL:https://members.crossroadschamber.org/events/details/lerner-and-rowe-ribbon-cutting-6454
END:VEVENT

END:VCALENDAR
