BEGIN:VCALENDAR
VERSION:2.0
PRODID:-//ChamberMaster//Event Calendar 2.0//EN
METHOD:PUBLISH
X-PUBLISHED-TTL:P3D
REFRESH-INTERVAL:P3D
CALSCALE:GREGORIAN
BEGIN:VEVENT
DTSTART:20240810T140000Z
DTEND:20240810T170000Z
X-MICROSOFT-CDO-ALLDAYEVENT:FALSE
SUMMARY:Lerner & Rowe Backpack Giveaway
DESCRIPTION:Join us for our 2024 Lerner & Rowe Backpack Giveaway where we will be giving out 1\,000 backpacks stuffed with school supplies just in time for back to school! Saturday\, August 10th at the Dean & Barbara White Community Center (6600 Broadway) in Merrillville. In addition\, attendees can enjoy FREE ice cream and browse local resource vendors. Let Lerner & Rowe take the hassle and stress out of back to school shopping and equip your kiddos with the necessities!\n\n\n\nAll backpacks\, supplies\, and ice cream are given on a first come\, first served basis\, while supplies last. There is no registration required. There are no income or residency restrictions. All are welcome! Parents and children must be present. Backpacks are given to those 18 years of age or younger.\n\n\n\nAre you a community member wanting to join in on the back-packing fun?! We need all hands on deck to help pack and prepare 1\,000 backpacks for our event. Friday\, August 9th we will spend the day moving through an assembly line and hand packing each backpack for the kiddos. Volunteers can help anytime between 9am-5pm at the Dean & Barbara White Center. Please contact Arianna Baiz if you would like to volunteer: abaiz@lernerandrowe.com
X-ALT-DESC;FMTTYPE=text/html:Join us for our 2024 Lerner &amp\; Rowe Backpack Giveaway where we will be giving out 1\,000 backpacks stuffed with school supplies just in time for back to school! Saturday\, August 10th at the Dean &amp\; Barbara White Community Center (6600 Broadway) in Merrillville. In addition\, attendees can enjoy FREE ice cream and browse local resource vendors. Let Lerner &amp\; Rowe take the hassle and stress out of back to school shopping and equip your kiddos with the necessities!<br />\n<br />\nAll backpacks\, supplies\, and ice cream are given on a first come\, first served basis\, while supplies last. There is no registration required. There are no income or residency restrictions. All are welcome! Parents and children must be present. Backpacks are given to those 18 years of age or younger.<br />\n<br />\nAre you a community member wanting to join in on the back-packing fun?! We need all hands on deck to help pack and prepare 1\,000 backpacks for our event. Friday\, August 9th we will spend the day moving through an assembly line and hand packing each backpack for the kiddos. Volunteers can help anytime between 9am-5pm at the Dean &amp\; Barbara White Center. Please contact Arianna Baiz if you would like to volunteer: abaiz@lernerandrowe.com
LOCATION:Dean & Barbara White Community Center 6600 Broadway\, Merrillville\, IN 46410
UID:e.897.6428
SEQUENCE:3
DTSTAMP:20260421T004331Z
URL:https://members.crossroadschamber.org/events/details/lerner-rowe-backpack-giveaway-6428
END:VEVENT

END:VCALENDAR
