BEGIN:VCALENDAR
VERSION:2.0
PRODID:-//ChamberMaster//Event Calendar 2.0//EN
METHOD:PUBLISH
X-PUBLISHED-TTL:P3D
REFRESH-INTERVAL:P3D
CALSCALE:GREGORIAN
BEGIN:VEVENT
DTSTART:20240514T180000Z
DTEND:20240514T200000Z
X-MICROSOFT-CDO-ALLDAYEVENT:FALSE
SUMMARY:Liberty Siding and Window LLC Ribbon Cutting
DESCRIPTION:We are excited to invite everyone to Liberty Siding and Window new show room. Please join us at the Ribbon Cutting/ Open house.\n\n \n\nOpen house will be held from 1pm-3pm\n\nRibbon Cutting will take place at 2pm.\n\n \n\nWe look forward to seeing everyone and appreciate your support of our Crossroads Chamber members\, and Northwest Indiana's business Community.
X-ALT-DESC;FMTTYPE=text/html:&nbsp\;We are excited to invite everyone to Liberty Siding and Window new show room. Please join us at the Ribbon Cutting/ Open house.<br />\n&nbsp\;<br />\nOpen house will be held from 1pm-3pm<br />\nRibbon Cutting will take place at 2pm.<br />\n&nbsp\;<br />\nWe look forward to seeing everyone and appreciate your support of our Crossroads Chamber members\, and Northwest Indiana&rsquo\;s business Community.<br />\n&nbsp\;
LOCATION:1431 E Summit St Crown Point\, IN 46307
UID:e.897.6268
SEQUENCE:3
DTSTAMP:20260421T055028Z
URL:https://members.crossroadschamber.org/events/details/liberty-siding-and-window-llc-ribbon-cutting-6268
END:VEVENT

END:VCALENDAR
