BEGIN:VCALENDAR
VERSION:2.0
PRODID:-//ChamberMaster//Event Calendar 2.0//EN
METHOD:PUBLISH
X-PUBLISHED-TTL:P3D
REFRESH-INTERVAL:P3D
CALSCALE:GREGORIAN
BEGIN:VEVENT
DTSTART:20230914T210000Z
DTEND:20230914T230000Z
X-MICROSOFT-CDO-ALLDAYEVENT:FALSE
SUMMARY:Lincoln Office Ribbon Cutting
DESCRIPTION:Lincoln Office Ribbon Cutting
X-ALT-DESC;FMTTYPE=text/html:Lincoln Office Ribbon Cutting&nbsp\;
LOCATION:85 W. 112th Ave. Crown Point\, IN 46307
UID:e.897.5040
SEQUENCE:3
DTSTAMP:20260423T204627Z
URL:https://members.crossroadschamber.org/events/details/lincoln-office-ribbon-cutting-5040
END:VEVENT

END:VCALENDAR
