BEGIN:VCALENDAR
VERSION:2.0
PRODID:-//ChamberMaster//Event Calendar 2.0//EN
METHOD:PUBLISH
X-PUBLISHED-TTL:P3D
REFRESH-INTERVAL:P3D
CALSCALE:GREGORIAN
BEGIN:VEVENT
DTSTART:20250612T200000Z
DTEND:20250612T210000Z
X-MICROSOFT-CDO-ALLDAYEVENT:FALSE
SUMMARY:Listing Leaders MVPs Ribbon Cutting
DESCRIPTION:We are excited to invite everyone to welcome Listing Leaders MVPs Crown Point. Please join us at the Ribbon Cutting/ Open house.\n\n \n\nOpen house will be held from 3p-5p\n\nRibbon Cutting will take place at 3:30pm\n\n \n\nWe look forward to seeing everyone and appreciate your support of our Crossroads Chamber members\, and Northwest Indiana's business Community.
X-ALT-DESC;FMTTYPE=text/html:<span style="font-size:18px\;">We are excited to invite everyone to welcome Listing Leaders MVPs Crown Point. Please join us at the Ribbon Cutting/ Open house.</span><br />\n<span style="font-size:16px\;">&nbsp\;<br />\nOpen house will be held from 3p-5p<br />\nRibbon Cutting will take place at 3:30pm<br />\n&nbsp\;<br />\nWe look forward to seeing everyone and appreciate your support of our Crossroads Chamber members\, and Northwest Indiana&rsquo\;s business Community.</span>
LOCATION:117 E. Goldsborough Street Crown Point\, IN 46307
UID:e.897.7098
SEQUENCE:3
DTSTAMP:20260420T065000Z
URL:https://members.crossroadschamber.org/events/details/listing-leaders-mvps-ribbon-cutting-7098
END:VEVENT

END:VCALENDAR
