BEGIN:VCALENDAR
VERSION:2.0
PRODID:-//ChamberMaster//Event Calendar 2.0//EN
METHOD:PUBLISH
X-PUBLISHED-TTL:P3D
REFRESH-INTERVAL:P3D
CALSCALE:GREGORIAN
BEGIN:VEVENT
DTSTART:20240620T200000Z
DTEND:20240620T230000Z
X-MICROSOFT-CDO-ALLDAYEVENT:FALSE
SUMMARY:The Longest Day 2024- Alzheimer's Association Fundraising Carnival at Belvedere Senior Housing
DESCRIPTION:Belvedere Senior Housing invites you and your family to join us for a carnival at our community on June 20th from\n\n3:00-6:00 PM! Carnival Games\, Food\, Drinks\, Music\, Balloon Artist\, and much more! All proceeds will be donated to The Longest Day 2024- Alzheimer's Association. Donations are greatly appreciated and can be made directly at: https://act.alz.org/site/TR?fr_id=17194&pg=team&team_id=876090
X-ALT-DESC;FMTTYPE=text/html:Belvedere Senior Housing invites you and your family to join us for a carnival at our community on June 20<sup>th</sup> from<br />\n3:00-6:00 PM! Carnival Games\, Food\, Drinks\, Music\, Balloon Artist\, and much more! All proceeds will be donated to The Longest Day 2024- Alzheimer&rsquo\;s Association. Donations are greatly appreciated and can be made directly at: <span style="color:#215F9A"><a href="https://act.alz.org/site/TR?fr_id=17194&amp\;pg=team&amp\;team_id=876090"><span style="color:#215F9A">https://act.alz.org/site/TR?fr_id=17194&amp\;pg=team&amp\;team_id=876090</span></a>&nbsp\; </span>
LOCATION:343 East 90th Drive Merrillville\, IN 46410
UID:e.897.6265
SEQUENCE:3
DTSTAMP:20260421T041027Z
URL:https://members.crossroadschamber.org/events/details/longest-day-fundraising-carnival-at-belvedre-senior-housing-6265
END:VEVENT

END:VCALENDAR
