BEGIN:VCALENDAR
VERSION:2.0
PRODID:-//ChamberMaster//Event Calendar 2.0//EN
METHOD:PUBLISH
X-PUBLISHED-TTL:P3D
REFRESH-INTERVAL:P3D
CALSCALE:GREGORIAN
BEGIN:VEVENT
DTSTART:20241009T210000Z
DTEND:20241009T213000Z
X-MICROSOFT-CDO-ALLDAYEVENT:FALSE
SUMMARY:Lowcountry Ribbon Cutting
DESCRIPTION:We are excited to invite everyone to welcome Lowcountry to Merrillville. Please join us at the Ribbon Cutting.\n\n\n\nRibbon Cutting will take place at 4:15pm.\n\n \n\nWe look forward to seeing everyone and appreciate your support of our Crossroads Chamber members\, and Northwest Indiana's business Community.
X-ALT-DESC;FMTTYPE=text/html:&nbsp\;We are excited to invite everyone to welcome Lowcountry to Merrillville. Please join us at the Ribbon Cutting.<br />\n<br />\nRibbon Cutting will take place at 4:15pm.<br />\n&nbsp\;<br />\nWe look forward to seeing everyone and appreciate your support of our Crossroads Chamber members\, and Northwest Indiana&rsquo\;s business Community.
LOCATION:8239 Georgia St. Merrillville\, IN
UID:e.897.6494
SEQUENCE:3
DTSTAMP:20260420T181222Z
URL:https://members.crossroadschamber.org/events/details/lowcountry-ribbon-cutting-6494
END:VEVENT

END:VCALENDAR
