BEGIN:VCALENDAR
VERSION:2.0
PRODID:-//ChamberMaster//Event Calendar 2.0//EN
METHOD:PUBLISH
X-PUBLISHED-TTL:P3D
REFRESH-INTERVAL:P3D
CALSCALE:GREGORIAN
BEGIN:VEVENT
DTSTART:20250718T223000Z
DTEND:20250719T013000Z
X-MICROSOFT-CDO-ALLDAYEVENT:FALSE
SUMMARY:Lumi Lasers + Aesthetics Three Year Celebration
DESCRIPTION:Come and celebrate three years with us! \n\n\n\n- Gift bags for the first 25 guests\n\n- Raffles\n\n- Laser Demos\n\n- Promotional Event Pricing \n\n- Snack and Refreshments
X-ALT-DESC;FMTTYPE=text/html:<span style="font-size:18px\;"><span style="font-family:arial\;">Come and celebrate three years with us!&nbsp\;<br />\n<br />\n- Gift bags for the first 25 guests<br />\n- Raffles<br />\n- Laser Demos<br />\n- Promotional Event Pricing&nbsp\;<br />\n- Snack and Refreshments&nbsp\;</span></span><br />\n&nbsp\;
LOCATION:10751 Randolph St. Winfield\, IN 46307
UID:e.897.7138
SEQUENCE:3
DTSTAMP:20260420T031456Z
URL:https://members.crossroadschamber.org/events/details/lumi-lasers-aesthetics-three-year-celebration-7138
END:VEVENT

END:VCALENDAR
