BEGIN:VCALENDAR
VERSION:2.0
PRODID:-//ChamberMaster//Event Calendar 2.0//EN
METHOD:PUBLISH
X-PUBLISHED-TTL:P3D
REFRESH-INTERVAL:P3D
CALSCALE:GREGORIAN
BEGIN:VEVENT
DTSTART:20250718T170000Z
DTEND:20250718T180000Z
X-MICROSOFT-CDO-ALLDAYEVENT:FALSE
SUMMARY:Lumi Lasers and Aesthetics Ribbon Cutting
DESCRIPTION:You're Invited!\n\n\n\nJoin us as we celebrate Lumi Lasers and Aesthetics' 3-Year Anniversary with a Ribbon Cutting and Open House!\n\n\n\n  Location: 10751 Randolph St\, Crown Point\, IN 46307\n\n   Date: July 18\, 2025\n\n  Open House: 12:00 PM   1:00 PM\n\n   Ribbon Cutting: 12:15 PM\n\n\n\nCome out and show your support for one of our Crossroads Chamber members as we celebrate three years of success and continued growth in Northwest Indiana's business community.\n\n\n\nWe look forward to seeing you there!
X-ALT-DESC;FMTTYPE=text/html:<p data-end="236" data-start="102"><span style="font-size:18px\;"><strong>You&#39\;re Invited!</strong><br />\n<br />\nJoin us as we celebrate&nbsp\;Lumi Lasers and Aesthetics&#39\;&nbsp\;3-Year Anniversary&nbsp\;with a Ribbon Cutting and Open House!<br />\n<br />\n<span style="font-family:segoe ui emoji\,sans-serif\;">&#128205\;</span>&nbsp\;<strong>Location:</strong>&nbsp\;10751 Randolph St\, Crown Point\, IN 46307<br />\n<span style="font-family:segoe ui emoji\,sans-serif\;">&#128467\;&#65039\;</span>&nbsp\;<strong>Date:</strong>&nbsp\;July 18\, 2025<br />\n<span style="font-family:segoe ui emoji\,sans-serif\;">&#128347\;</span>&nbsp\;<strong>Open House:</strong>&nbsp\;12:00 PM &ndash\; 1:00 PM<br />\n<span style="font-family:segoe ui emoji\,sans-serif\;">&#9986\;&#65039\;</span>&nbsp\;<strong>Ribbon Cutting:</strong>&nbsp\;12:15 PM<br />\n<br />\nCome out and show your support for one of our Crossroads Chamber members as we celebrate three years of success and continued growth in&nbsp\;Northwest Indiana&rsquo\;s business community.<br />\n<br />\nWe look forward to seeing you there!</span></p>\n
LOCATION:
UID:e.897.7135
SEQUENCE:3
DTSTAMP:20260420T031829Z
URL:https://members.crossroadschamber.org/events/details/lumi-lasers-and-aesthetics-ribbon-cutting-7135
END:VEVENT

END:VCALENDAR
