BEGIN:VCALENDAR
VERSION:2.0
PRODID:-//ChamberMaster//Event Calendar 2.0//EN
METHOD:PUBLISH
X-PUBLISHED-TTL:P3D
REFRESH-INTERVAL:P3D
CALSCALE:GREGORIAN
BEGIN:VEVENT
DTSTART:20241022T170000Z
DTEND:20241022T180000Z
X-MICROSOFT-CDO-ALLDAYEVENT:FALSE
SUMMARY:Lunch and Learn -Aviva Merrillville
DESCRIPTION:Aviva Merrillville will be hosting a Two part lunch and learn series with Alzheimer's and dementia services of Northwest Indiana and present by Joseph Collins. The last presentation will be Tuesday\, October 22nd speaking on Becoming an Advocate. This is a free program\, space is limited please RSVP to Tricia at tcatlin@avivaseniorliving.com by 12:00 the day before the event.
X-ALT-DESC;FMTTYPE=text/html:<span style="background-color:rgb(255\, 255\, 255)\; color:rgb(97\, 97\, 97)\; font-family:montserrat\,sans-serif\; font-size:14px">Aviva Merrillville will be hosting a Two part lunch and learn series with Alzheimer&rsquo\;s and dementia services of Northwest Indiana and present by Joseph Collins. The last presentation will be Tuesday\, October 22nd speaking on Becoming an Advocate. This is a free program\, space is limited please RSVP to Tricia at tcatlin@avivaseniorliving.com by 12:00 the day before the event.</span>
LOCATION:Aviva Merrillville 7900 Rhode Island St. Merrillville\, IN. 46410
UID:e.897.6466
SEQUENCE:3
DTSTAMP:20260420T181407Z
URL:https://members.crossroadschamber.org/events/details/lunch-and-learn-aviva-merrillville-6466
END:VEVENT

END:VCALENDAR
