BEGIN:VCALENDAR
VERSION:2.0
PRODID:-//ChamberMaster//Event Calendar 2.0//EN
METHOD:PUBLISH
X-PUBLISHED-TTL:P3D
REFRESH-INTERVAL:P3D
CALSCALE:GREGORIAN
BEGIN:VEVENT
DTSTART:20250924T210000Z
DTEND:20250925T000000Z
X-MICROSOFT-CDO-ALLDAYEVENT:FALSE
SUMMARY:Lynn's Furniture & Mattress Anniversary Celebration
DESCRIPTION:Lynn's Furniture & Mattress Anniversary Celebration
X-ALT-DESC;FMTTYPE=text/html:<span style="font-size:26px\;">Lynn&#39\;s Furniture &amp\; Mattress Anniversary Celebration&nbsp\;</span>
LOCATION:10251 Indianapolis Blvd. Highland\, IN 46322
UID:e.897.7195
SEQUENCE:3
DTSTAMP:20260420T012259Z
URL:https://members.crossroadschamber.org/events/details/lynn-s-furniture-mattress-anniversary-celebration-7195
END:VEVENT

END:VCALENDAR
