BEGIN:VCALENDAR
VERSION:2.0
PRODID:-//ChamberMaster//Event Calendar 2.0//EN
METHOD:PUBLISH
X-PUBLISHED-TTL:P3D
REFRESH-INTERVAL:P3D
CALSCALE:GREGORIAN
BEGIN:VEVENT
DTSTART:20250426T230000Z
DTEND:20250427T040000Z
X-MICROSOFT-CDO-ALLDAYEVENT:FALSE
SUMMARY:Masquerade Ball
DESCRIPTION:Unmask the night and prepare for an evening of intrigue at The Grand in Crown Point! Enjoy a premium 3-course meal\, premium open bar\, live entertainment and raffles while helping us raise funds to feed local children in need! Purchase single tickets or a table of 10. EACH TICKET PURCHASED FEEDS A LOCAL CHILD IN NEED FOR A MONTH!
X-ALT-DESC;FMTTYPE=text/html:<span style="background-color:rgb(255\, 255\, 255)\; font-family:montserrat\,sans-serif\; font-size:14px">Unmask the night and prepare for an evening of intrigue at The Grand in Crown Point! Enjoy a premium 3-course meal\, premium open bar\, live entertainment and raffles while helping us raise funds to feed local children in need! Purchase single tickets or a table of 10. EACH TICKET PURCHASED FEEDS A LOCAL CHILD IN NEED FOR A&nbsp\;</span><strong>MONTH!</strong>
LOCATION:The Grand 1 Courthouse Square Crown Point IN 46307
UID:e.897.6611
SEQUENCE:3
DTSTAMP:20260420T101716Z
URL:https://members.crossroadschamber.org/events/details/masquerade-ball-6611
END:VEVENT

END:VCALENDAR
