BEGIN:VCALENDAR
VERSION:2.0
PRODID:-//ChamberMaster//Event Calendar 2.0//EN
METHOD:PUBLISH
X-PUBLISHED-TTL:P3D
REFRESH-INTERVAL:P3D
CALSCALE:GREGORIAN
BEGIN:VEVENT
DTSTART:20250520T161500Z
DTEND:20250520T180000Z
X-MICROSOFT-CDO-ALLDAYEVENT:FALSE
SUMMARY:May Membership Program
DESCRIPTION:Guest Speaker: \n\nDeb Johnson with Thryv\n\n\n\n\n\nDon't forget to register for a Promotional "Get Promoted" Table $30 \n\nReceive a table with two chairs\, bring your promotional items for your business\, network with members and receive two minutes at the mic during the program.
X-ALT-DESC;FMTTYPE=text/html:<span style="font-size:18px\;"><strong><span style="background-image: initial\; background-position: initial\; background-size: initial\; background-repeat: initial\; background-attachment: initial\; background-origin: initial\; background-clip: initial\;"><span style="color: black\;">Guest Speaker:&nbsp\;</span></span></strong></span><br />\n<span style="font-size:24px\;">Deb Johnson with Thryv</span><br />\n<br />\n<br />\n<span style="font-family: arial\;"><span style="font-size: 16px\;">Don&#39\;t forget to register for a&nbsp\;<strong>Promotional &ldquo\;Get Promoted&rdquo\; Table $30&nbsp\;</strong><br />\nReceive a table with two chairs\, bring your promotional items for your business\, network with members and receive two minutes at the mic during the program.</span></span><br />\n<br />\n&nbsp\;
LOCATION:Dean and Barbara White Community Center 6600 Broadway Merrillville\, IN 46410
UID:e.897.6573
SEQUENCE:3
DTSTAMP:20260420T064037Z
URL:https://members.crossroadschamber.org/events/details/may-membership-program-6573
END:VEVENT

END:VCALENDAR
