BEGIN:VCALENDAR
VERSION:2.0
PRODID:-//ChamberMaster//Event Calendar 2.0//EN
METHOD:PUBLISH
X-PUBLISHED-TTL:P3D
REFRESH-INTERVAL:P3D
CALSCALE:GREGORIAN
BEGIN:VEVENT
DTSTART:20250827T223000Z
DTEND:20250828T003000Z
X-MICROSOFT-CDO-ALLDAYEVENT:FALSE
SUMMARY:Meet the Docs at Franciscan Health Olympia Fields
DESCRIPTION:Find your new doctor at this free community event with exhibits featuring highly rated primary care and specialty providers. And learn about a wide range of hospital departments and services. \n\nMeet Primary Care Physicians and Specialists of all kinds FACE-TO-FACE:\n\n	Family Medicine\n	Internal Medicine\n	Pediatrics\n	OB/Gyn\n	Cardiology\n	Orthopedics\n	Hematology/Oncology \n	Neurology\n	Pulmonary and Sleep Medicine\n	Gastroenterology\n	Nurse Navigators \n	Clinical Pharmacists\n	Hospitalists\n	Behavioral Health\n	Endocrinology\n	Occupational Medicine\n	Bariatrics\n	Surgery\n	Breast Surgery\n	Rheumatology\n	Radiation Oncology\n	Urology\n	Dermatology\n	Podiatry\n\nLive entertainment\, refreshments\, free chair massages\, giveaways and a chance to win a 65" Roku 4K Smart TV! \n\nPlus get a demonstration of the ION ROBOT: breakthrough technology for the early diagnosis of lung cancer!
X-ALT-DESC;FMTTYPE=text/html:Find your new doctor at this free community event with exhibits featuring highly rated primary care and specialty providers. And learn about a wide range of hospital departments and services.&nbsp\;<br />\nMeet Primary Care Physicians and Specialists of all kinds FACE-TO-FACE:\n<ul>\n	<li>Family Medicine</li>\n	<li>Internal Medicine</li>\n	<li>Pediatrics</li>\n	<li>OB/Gyn</li>\n	<li>Cardiology</li>\n	<li>Orthopedics</li>\n	<li>Hematology/Oncology&nbsp\;</li>\n	<li>Neurology</li>\n	<li>Pulmonary and Sleep Medicine</li>\n	<li>Gastroenterology</li>\n	<li>Nurse Navigators&nbsp\;</li>\n	<li>Clinical Pharmacists</li>\n	<li>Hospitalists</li>\n	<li>Behavioral Health</li>\n	<li>Endocrinology</li>\n	<li>Occupational Medicine</li>\n	<li>Bariatrics</li>\n	<li>Surgery</li>\n	<li>Breast Surgery</li>\n	<li>Rheumatology</li>\n	<li>Radiation Oncology</li>\n	<li>Urology</li>\n	<li>Dermatology</li>\n	<li>Podiatry</li>\n</ul>\nLive entertainment\, refreshments\, free chair massages\, giveaways and a chance to win a 65&quot\; Roku 4K Smart TV!&nbsp\;<br />\nPlus get a demonstration of the ION ROBOT: breakthrough technology for the early diagnosis of lung cancer!&nbsp\;
LOCATION:Franciscan Health Olympia Fields 20201 S. Crawford Ave. Olympia Fields\, IL 60461 Hosptial Spine - enter off of Crawford Ave. main entrance or old main entrance on south side of campus. Look for wind dancer!
UID:e.897.7142
SEQUENCE:3
DTSTAMP:20260420T011844Z
URL:https://members.crossroadschamber.org/events/details/meet-the-docs-at-franciscan-health-olympia-fields-7142
END:VEVENT

END:VCALENDAR
