BEGIN:VCALENDAR
VERSION:2.0
PRODID:-//ChamberMaster//Event Calendar 2.0//EN
METHOD:PUBLISH
X-PUBLISHED-TTL:P3D
REFRESH-INTERVAL:P3D
CALSCALE:GREGORIAN
BEGIN:VEVENT
DTSTART:20220719T210000Z
DTEND:20220719T230000Z
X-MICROSOFT-CDO-ALLDAYEVENT:FALSE
SUMMARY:Member Social
DESCRIPTION:Come join us at our Member Social!  We will have networking\, heavy hors d'oeuvres\, beer and wine.  All at the lovely Museum with a gorgeous view of the lake.
X-ALT-DESC;FMTTYPE=text/html:Come join us at our Member Social!&nbsp\; We will have networking\, heavy hors d&#39\;oeuvres\, beer and wine.&nbsp\; All at the lovely Museum with a gorgeous view of the lake.
LOCATION:The Museum at Lassen's Resort 7408 Constitution Avenue Cedar Lake\, IN 46303
UID:e.897.4517
SEQUENCE:3
DTSTAMP:20260424T194425Z
URL:https://members.crossroadschamber.org/events/details/member-social-4517
END:VEVENT

END:VCALENDAR
