BEGIN:VCALENDAR
VERSION:2.0
PRODID:-//ChamberMaster//Event Calendar 2.0//EN
METHOD:PUBLISH
X-PUBLISHED-TTL:P3D
REFRESH-INTERVAL:P3D
CALSCALE:GREGORIAN
BEGIN:VEVENT
DTSTART:20260128T160000Z
DTEND:20260128T173000Z
X-MICROSOFT-CDO-ALLDAYEVENT:FALSE
SUMMARY:Merch & Mingle: Celebrate People\, Highlight Impact
DESCRIPTION:Merch & Mingle: Celebrate People\, Highlight Impact\n\n\nRecognition shouldn't be rushed or generic.\n\nJoin Generate Sales and Marketing for Recognition That Matters: Celebrating People & Highlighting Impact\, a merch and mingle style event designed to help you plan meaningful recognition for employees\, customers\, donors\, volunteers\, and community partners. Seats are limited and registration is required. \n\nWalk through curated merchandise displays\, exchange ideas with peers\, and explore recognition solutions tied to Q1 Q2 appreciation moments including Employee Appreciation Day\, Nurses Week\, Volunteer Appreciation Week\, and more.\n\nThis is not a presentation it's an experience.\n\nYou'll leave with:\n\n\n	Hands-on inspiration for recognition weeks and milestones\n	Practical ideas you can implement immediately\n	Connections with professionals facing the same planning challenges\n	A clearer plan for making appreciation feel personal and intentional\n\n\nStop by\, mingle\, and leave with recognition ideas that actually matter.\n\n\n\nRegister Here: https://www.eventbrite.com/e/merch-mingle-celebrate-people-highlight-impact-tickets-1979877332398?utm-campaign=social&utm-content=attendeeshare&utm-medium=discovery&utm-term=listing&utm-source=cp&aff=ebdsshcopyurl \n\nAbout Generate:\n\nWe are a team of promotional marketing strategists focused on providing our clients the best in branded merchandise\, apparel\, print\, signage\, and awards. At Generate\, we truly believe in the power of promo to help businesses reach their goals.
X-ALT-DESC;FMTTYPE=text/html:<div><span style="font-size:14px"><strong>Merch &amp\; Mingle:&nbsp\;Celebrate People\, Highlight Impact</strong></span></div>\n\n<div>\n<p>Recognition shouldn&rsquo\;t be rushed&mdash\;or generic.</p>\n\n<p>Join Generate Sales and Marketing for&nbsp\;Recognition That Matters: Celebrating People &amp\; Highlighting Impact\, a&nbsp\;merch and mingle&ndash\;style event&nbsp\;designed to help you plan meaningful recognition for employees\, customers\, donors\, volunteers\, and community partners. Seats are limited and registration is required.&nbsp\;</p>\n\n<p>Walk through curated merchandise displays\, exchange ideas with peers\, and explore recognition solutions tied to&nbsp\;Q1&ndash\;Q2 appreciation moments&mdash\;including&nbsp\;Employee Appreciation Day\, Nurses Week\, Volunteer Appreciation Week\, and more.</p>\n\n<p>This is not a presentation&mdash\;it&rsquo\;s an experience.</p>\n\n<p>You&rsquo\;ll leave with:</p>\n\n<ul>\n	<li>Hands-on inspiration for recognition weeks and milestones</li>\n	<li>Practical ideas you can implement immediately</li>\n	<li>Connections with professionals facing the same planning challenges</li>\n	<li>A clearer plan for making appreciation feel personal and intentional</li>\n</ul>\n\n<p>Stop by\, mingle\, and leave with recognition ideas that actually matter.<br />\n<br />\nRegister Here:&nbsp\;<a href="https://www.eventbrite.com/e/merch-mingle-celebrate-people-highlight-impact-tickets-1979877332398?utm-campaign=social&amp\;utm-content=attendeeshare&amp\;utm-medium=discovery&amp\;utm-term=listing&amp\;utm-source=cp&amp\;aff=ebdsshcopyurl">https://www.eventbrite.com/e/merch-mingle-celebrate-people-highlight-impact-tickets-1979877332398?utm-campaign=social&amp\;utm-content=attendeeshare&amp\;utm-medium=discovery&amp\;utm-term=listing&amp\;utm-source=cp&amp\;aff=ebdsshcopyurl&nbsp\;</a></p>\n\n<p>About Generate:<br />\nWe are a team of promotional marketing strategists focused on providing our clients the best in branded merchandise\, apparel\, print\, signage\, and awards. At Generate\, we truly believe in the power of promo to help businesses reach their goals.</p>\n</div>\n
LOCATION:1121 Breukman Drive Crown Point\, IN
UID:e.897.7353
SEQUENCE:3
DTSTAMP:20260419T182414Z
URL:https://members.crossroadschamber.org/events/details/merch-mingle-celebrate-people-highlight-impact-7353
END:VEVENT

END:VCALENDAR
