BEGIN:VCALENDAR
VERSION:2.0
PRODID:-//ChamberMaster//Event Calendar 2.0//EN
METHOD:PUBLISH
X-PUBLISHED-TTL:P3D
REFRESH-INTERVAL:P3D
CALSCALE:GREGORIAN
BEGIN:VEVENT
DTSTART:20230711T213000Z
DTEND:20230711T230000Z
X-MICROSOFT-CDO-ALLDAYEVENT:FALSE
SUMMARY:Methodist Hospital 3rd Floor Rehabilitation Services Ribbon Cutting
DESCRIPTION:Methodist Hospital 3rd Floor Rehabilitation Services Ribbon Cutting
X-ALT-DESC;FMTTYPE=text/html:Methodist Hospital 3rd Floor Rehabilitation Services Ribbon Cutting&nbsp\;
LOCATION:Methodist Hospital 3rd Floor Rehabilitation Services 101 E. 87th Ave. Merrillville\, IN 46410
UID:e.897.5028
SEQUENCE:3
DTSTAMP:20260423T224347Z
URL:https://members.crossroadschamber.org/events/details/methodist-hospital-3rd-floor-rehabilitation-services-ribbon-cutting-5028
END:VEVENT

END:VCALENDAR
