BEGIN:VCALENDAR
VERSION:2.0
PRODID:-//ChamberMaster//Event Calendar 2.0//EN
METHOD:PUBLISH
X-PUBLISHED-TTL:P3D
REFRESH-INTERVAL:P3D
CALSCALE:GREGORIAN
BEGIN:VEVENT
DTSTART:20240509T200000Z
DTEND:20240509T210000Z
X-MICROSOFT-CDO-ALLDAYEVENT:FALSE
SUMMARY:Midwest Aerospace Casting Ribbon Cutting
DESCRIPTION:Are you ready to embark on an unforgettable journey? Midwest Aerospace Casting\, in partnership with the Crossroads Chamber\, is thrilled to invite you to be part of a momentous occasion as we spread our wings and soar into a new era of innovation at our brand-new manufacturing facility.\n\nJoin us as we bring together the brightest minds\, key stakeholders and esteemed community members to mark the beginning of our extraordinary journey. This isn't just a celebration\; it's a testament to our dedication to pushing boundaries\, fostering innovation and shaping the future of aerospace casting.\n\nWhat to Expect\n\nInnovation Unveiled: Prepare to be dazzled by the latest advancements and cutting-edge technologies at our new facility. Community Spirit: Witness the power of unity as we come together to celebrate progress\, perseverance and the spirit of collective ambition. Limitless Possibilities: Brace yourselves for an event that promises to set the stage for a future filled with endless possibilities and groundbreaking achievements. \n\nThis isn't your average ribbon-cutting ceremony\; it's an invitation to witness history in the making and be part of something truly extraordinary.\n\nKindly RSVP to brian@theboyergroupllc.com and secure your spot in the annals of aerospace innovation.\n\nSo\, mark your calendars\, dust off your aviator shades and get ready to join us on a journey that promises to be out of this world!
X-ALT-DESC;FMTTYPE=text/html:<p style="margin-bottom:15.0pt\;background:white\;white-space:pre-wrap"><span style="font-size:11.5pt\;font-family:&quot\;Segoe UI&quot\;\,sans-serif\;color:#0D0D0D">Are you ready to embark on an unforgettable journey? Midwest Aerospace Casting\, in partnership with the Crossroads Chamber\, is thrilled to invite you to be part of a momentous occasion as we spread our wings and soar into a new era of innovation at our brand-new manufacturing facility.</span></p>\n\n<p style="margin-bottom:15.0pt\;background:white"><span style="font-family:&quot\;Segoe UI&quot\;\,sans-serif\;\ncolor:#0D0D0D">Join us as we bring together the brightest minds\, key stakeholders and esteemed community members to mark the beginning of our extraordinary journey. This isn&#39\;t just a celebration\; it&#39\;s a testament to our dedication to pushing boundaries\, fostering innovation and shaping the future of aerospace casting.</span><o:p></o:p></p>\n\n<p style="margin-bottom:15.0pt\;background:white\;white-space:pre-wrap"><b><span style="font-family:&quot\;Segoe UI&quot\;\,sans-serif\;color:#0D0D0D">What to Expect</span></b><o:p></o:p></p>\n\n<p class="elementtoproof" style="margin-bottom:15.0pt\;background:white\;\nwhite-space:pre-wrap"><b><span style="font-family:&quot\;Segoe UI&quot\;\,sans-serif\;\ncolor:#0D0D0D">Innovation Unveiled:</span></b><span style="font-family:&quot\;Segoe UI&quot\;\,sans-serif\;\ncolor:#0D0D0D"> Prepare to be dazzled by the latest advancements and cutting-edge technologies at our new facility. <b>Community Spirit:</b> Witness the power of unity as we come together to celebrate progress\, perseverance and the spirit of collective ambition. <b>Limitless Possibilities: </b>Brace yourselves for an event that promises to set the stage for a future filled with endless possibilities and groundbreaking achievements. </span><o:p></o:p></p>\n\n<p style="margin-bottom:15.0pt\;background:white\;white-space:pre-wrap"><span style="font-family:&quot\;Segoe UI&quot\;\,sans-serif\;color:#0D0D0D">This isn&#39\;t your average ribbon-cutting ceremony\; it&#39\;s an invitation to witness history in the making and be part of something truly extraordinary.</span><o:p></o:p></p>\n\n<p style="background:white\;white-space:pre-wrap"><b><span style="font-family:\n&quot\;Segoe UI&quot\;\,sans-serif\;color:#0D0D0D">Kindly RSVP to </span></b><b><u><span style="font-family:&quot\;Segoe UI&quot\;\,sans-serif\;color:#467886"><a data-linkindex="0" href="mailto:brian@theboyergroupllc.com"><span style="color:#467886">brian@theboyergroupllc.com</span></a></span></u></b><b><span style="font-family:&quot\;Segoe UI&quot\;\,sans-serif\;color:#0D0D0D"> and secure your spot in the annals of aerospace innovation.</span></b><o:p></o:p></p>\n\n<p style="margin-bottom:15.0pt\;background:white\;white-space:pre-wrap"><span style="font-family:&quot\;Segoe UI&quot\;\,sans-serif\;color:#0D0D0D">So\, mark your calendars\, dust off your aviator shades and get ready to join us on a journey that promises to be out of this world!</span><o:p></o:p></p>\n\n<p style="margin-bottom:15.0pt\;background:white\;white-space:pre-wrap"><o:p></o:p><br />\n<br />\n&nbsp\;</p>\n
LOCATION:Midwest Aerospace Casting 899 E 99th Court Merrillville\, IN
UID:e.897.6245
SEQUENCE:3
DTSTAMP:20260421T054803Z
URL:https://members.crossroadschamber.org/events/details/midwest-aerospace-casting-ribbon-cutting-6245
END:VEVENT

END:VCALENDAR
