BEGIN:VCALENDAR
VERSION:2.0
PRODID:-//ChamberMaster//Event Calendar 2.0//EN
METHOD:PUBLISH
X-PUBLISHED-TTL:P3D
REFRESH-INTERVAL:P3D
CALSCALE:GREGORIAN
BEGIN:VEVENT
DTSTART:20240604T170000Z
DTEND:20240604T180000Z
X-MICROSOFT-CDO-ALLDAYEVENT:FALSE
SUMMARY:Midwest Express Clinic- Griffith Ribbon Cutting
DESCRIPTION:We are excited to invite everyone to welcome Midwest Express Clinic to Griffith. Please join us at the Ribbon Cutting.\n\n\n\nRibbon Cutting will take place at 12:00pm.\n\n\n\nWe look forward to seeing everyone and appreciate your support of our Crossroads Chamber members\, and Northwest Indiana's business Community.
X-ALT-DESC;FMTTYPE=text/html:We are excited to invite everyone to welcome Midwest Express Clinic to Griffith. Please join us at the Ribbon Cutting.<br />\n<br />\nRibbon Cutting will take place at 12:00pm.<br />\n<br />\nWe look forward to seeing everyone and appreciate your support of our Crossroads Chamber members\, and Northwest Indiana&rsquo\;s business Community.
LOCATION:1225 E Ridge Rd Griffith\, 46319
UID:e.897.6275
SEQUENCE:3
DTSTAMP:20260421T040742Z
URL:https://members.crossroadschamber.org/events/details/midwest-express-clinic-griffith-ribbon-cutting-6275
END:VEVENT

END:VCALENDAR
