BEGIN:VCALENDAR
VERSION:2.0
PRODID:-//ChamberMaster//Event Calendar 2.0//EN
METHOD:PUBLISH
X-PUBLISHED-TTL:P3D
REFRESH-INTERVAL:P3D
CALSCALE:GREGORIAN
BEGIN:VEVENT
DTSTART:20250912T210000Z
DTEND:20250913T030000Z
X-MICROSOFT-CDO-ALLDAYEVENT:FALSE
SUMMARY:Mix and Mingle with Hometown Jams!
DESCRIPTION:Hometown Jams is inviting Crossroads Chamber members to Mix and Mingle with them before the Gabby Barrett Concert on Friday September 12\, 2025. \n\n\n\nYou MUST register online before September 4\, 2025. \n\n\n\nEach Chamber representative will receive two free general admission tickets to the show and also include two drink tickets. \n\nPlease bring your own lawn chair.
X-ALT-DESC;FMTTYPE=text/html:<span style="font-size:18px\;">Hometown Jams is inviting Crossroads Chamber members to Mix and Mingle with them before the Gabby Barrett Concert on Friday September 12\, 2025.&nbsp\;<br />\n<br />\nYou MUST register online before September 4\, 2025.&nbsp\;<br />\n<br />\nEach Chamber representative will receive two free general admission tickets to the show and also include two drink tickets.&nbsp\;<br />\nPlease bring your own lawn chair.&nbsp\;</span>
LOCATION:Central Park Plaza 68 Lafayette St\, Valparaiso\, IN 46383
UID:e.897.7164
SEQUENCE:3
DTSTAMP:20260420T011918Z
URL:https://members.crossroadschamber.org/events/details/mix-and-mingle-with-hometown-jams-7164
END:VEVENT

END:VCALENDAR
