BEGIN:VCALENDAR
VERSION:2.0
PRODID:-//ChamberMaster//Event Calendar 2.0//EN
METHOD:PUBLISH
X-PUBLISHED-TTL:P3D
REFRESH-INTERVAL:P3D
CALSCALE:GREGORIAN
BEGIN:VEVENT
DTSTART:20231213T160000Z
DTEND:20231213T200000Z
X-MICROSOFT-CDO-ALLDAYEVENT:FALSE
SUMMARY:Mix\, Mingle and Jingle
DESCRIPTION:Considering joining a committee?\n\nCome meet with all committee chairs to learn more and\n\nsee what committee is right for you! \n\n\n\n\n\nWe couldn't do any of this without the support of our members.\n\nPlease come celebrate this past year with us and enjoy \n\nholiday cheer with some cookies and punch.
X-ALT-DESC;FMTTYPE=text/html:<br />\n<span style="font-size:14px\;"><span style="font-family:courier new\;"><span style="font-size:18px\;">Considering joining a committee?<br />\nCome meet with all committee chairs to learn more and<br />\nsee what committee is right for you!&nbsp\;</span><br />\n<br />\n<br />\n<strong><em><span style="font-size:18px\;">We couldn&#39\;t do any of this without the support of our members.<br />\nPlease come celebrate this past year with us and enjoy&nbsp\;<br />\nholiday cheer with some cookies and punch.&nbsp\;</span></em></strong></span></span>
LOCATION:Crossroads Chamber Lower Level Community Room 440 w. 84th Dr. Merrillville\, IN 46410
UID:e.897.5486
SEQUENCE:3
DTSTAMP:20260423T133811Z
URL:https://members.crossroadschamber.org/events/details/mix-mingle-and-jingle-5486
END:VEVENT

END:VCALENDAR
