BEGIN:VCALENDAR
VERSION:2.0
PRODID:-//ChamberMaster//Event Calendar 2.0//EN
METHOD:PUBLISH
X-PUBLISHED-TTL:P3D
REFRESH-INTERVAL:P3D
CALSCALE:GREGORIAN
BEGIN:VEVENT
DTSTART;VALUE=DATE:20250502
DTEND;VALUE=DATE:20250510
TRANSP:TRANSPARENT
X-MICROSOFT-CDO-ALLDAYEVENT:TRUE
SUMMARY:Mom's Day Happy Hour
DESCRIPTION:Join us for Mom's Day Mimosas! \n\nFriday\, May2nd- Friday\, May 9th\n\nBOOK 2 SERVICES & GET ONE 1/2 OFF FOR A FRIEND!\n\nSAVINGS OF $30!!!\n\nBRING YOUR BEST FRIEND AND RELAX & UNWIND!\n\n\n\nChoose from Medical Grade services\, such as\, InLight Therapy & the BEMER Mat. Also offered are the Ionic Foot Detox & Chi Machine. To learn more about these services\, please visit www.HolisticallyWellAngelaBruszewski.Org\n\n\n\nPlease contact Angela to Reserve your Appointment. As this event is likely to book up fast\, pre-payment is required.\n\nHolisticallyWellWithAng@gmail.com or 219.775.1236
X-ALT-DESC;FMTTYPE=text/html:<p><strong>Join us for Mom&#39\;s Day Mimosas!&nbsp\;</strong></p>\n\n<p><strong>Friday\, May2nd- Friday\, May 9th</strong></p>\n\n<p>BOOK 2 SERVICES &amp\; GET ONE 1/2 OFF FOR A FRIEND!</p>\n\n<p><strong>SAVINGS OF $30!!!</strong></p>\n\n<p>BRING YOUR BEST FRIEND AND RELAX &amp\; UNWIND!<br />\n<br />\nChoose from Medical Grade services\, such as\, InLight Therapy &amp\; the BEMER Mat. Also offered are the Ionic Foot Detox &amp\; Chi Machine. To learn more about these services\, please visit www.HolisticallyWellAngelaBruszewski.Org<br />\n<br />\nPlease contact Angela to Reserve your Appointment. As this event is likely to book up fast\, pre-payment is required.<br />\nHolisticallyWellWithAng@gmail.com or 219.775.1236<br />\n&nbsp\;</p>\n
LOCATION:Holistically Well LLC 10542 Erie Drive Crown Point\, IN
UID:e.897.7069
SEQUENCE:3
DTSTAMP:20260420T065320Z
URL:https://members.crossroadschamber.org/events/details/mom-s-day-happy-hour-05-02-2025-7069
END:VEVENT

END:VCALENDAR
