BEGIN:VCALENDAR
VERSION:2.0
PRODID:-//ChamberMaster//Event Calendar 2.0//EN
METHOD:PUBLISH
X-PUBLISHED-TTL:P3D
REFRESH-INTERVAL:P3D
CALSCALE:GREGORIAN
BEGIN:VEVENT
DTSTART:20210420T161500Z
DTEND:20210420T180000Z
X-MICROSOFT-CDO-ALLDAYEVENT:FALSE
SUMMARY:Monthly Lunch Program
DESCRIPTION:Shawn Pettit\, Merrillville Town Councilman\, will provide the Merrillville Town Address\n\nPlease know masks will be required to attend this event.
X-ALT-DESC;FMTTYPE=text/html:Shawn Pettit\, Merrillville Town Councilman\, will provide the Merrillville Town Address<br />\nPlease know masks will be required to attend this event.
LOCATION:New Dean & Barbara White Community Center 6600 Broadway Merrillville\, IN 46410
UID:e.897.4387
SEQUENCE:3
DTSTAMP:20260423T062529Z
URL:https://members.crossroadschamber.org/events/details/monthly-lunch-program-4387
END:VEVENT

END:VCALENDAR
